BEGIN:VCALENDAR
VERSION:2.0
PRODID:-//Gymnasium Birkenfeld - ECPv6.14.0//NONSGML v1.0//EN
CALSCALE:GREGORIAN
METHOD:PUBLISH
X-ORIGINAL-URL:https://gymnasium-birkenfeld.de
X-WR-CALDESC:Veranstaltungen für Gymnasium Birkenfeld
REFRESH-INTERVAL;VALUE=DURATION:PT1H
X-Robots-Tag:noindex
X-PUBLISHED-TTL:PT1H
BEGIN:VTIMEZONE
TZID:Europe/Berlin
BEGIN:DAYLIGHT
TZOFFSETFROM:+0100
TZOFFSETTO:+0200
TZNAME:CEST
DTSTART:20230326T010000
END:DAYLIGHT
BEGIN:STANDARD
TZOFFSETFROM:+0200
TZOFFSETTO:+0100
TZNAME:CET
DTSTART:20231029T010000
END:STANDARD
END:VTIMEZONE
BEGIN:VEVENT
DTSTART;VALUE=DATE:20230608
DTEND;VALUE=DATE:20230609
DTSTAMP:20260422T153935
CREATED:20230102T100310Z
LAST-MODIFIED:20230102T100310Z
UID:10000078-1686182400-1686268799@gymnasium-birkenfeld.de
SUMMARY:Fronleichnam
DESCRIPTION:
URL:https://gymnasium-birkenfeld.de/event/fronleichnam/
END:VEVENT
BEGIN:VEVENT
DTSTART;VALUE=DATE:20230609
DTEND;VALUE=DATE:20230610
DTSTAMP:20260422T153935
CREATED:20230102T100328Z
LAST-MODIFIED:20230102T100328Z
UID:10000079-1686268800-1686355199@gymnasium-birkenfeld.de
SUMMARY:Beweglicher Ferientag
DESCRIPTION:
URL:https://gymnasium-birkenfeld.de/event/beweglicher-ferientag-2/
END:VEVENT
BEGIN:VEVENT
DTSTART;VALUE=DATE:20230611
DTEND;VALUE=DATE:20230617
DTSTAMP:20260422T153935
CREATED:20221221T110007Z
LAST-MODIFIED:20221221T110007Z
UID:10000067-1686441600-1686959999@gymnasium-birkenfeld.de
SUMMARY:Stufenfahrt MSS12
DESCRIPTION:
URL:https://gymnasium-birkenfeld.de/event/stufenfahrt-mss12/
END:VEVENT
BEGIN:VEVENT
DTSTART;VALUE=DATE:20230612
DTEND;VALUE=DATE:20230613
DTSTAMP:20260422T153935
CREATED:20220628T095747Z
LAST-MODIFIED:20220628T095747Z
UID:10000028-1686528000-1686614399@gymnasium-birkenfeld.de
SUMMARY:Erster Schultag nach den Pfingstferien
DESCRIPTION:
URL:https://gymnasium-birkenfeld.de/event/erster-schultag-nach-den-pfingstferien/
END:VEVENT
BEGIN:VEVENT
DTSTART;VALUE=DATE:20230612
DTEND;VALUE=DATE:20230613
DTSTAMP:20260422T153935
CREATED:20230102T100220Z
LAST-MODIFIED:20230102T100220Z
UID:10000077-1686528000-1686614399@gymnasium-birkenfeld.de
SUMMARY:Erster Schultag nach den Pfingstferien
DESCRIPTION:
URL:https://gymnasium-birkenfeld.de/event/erster-schultag-nach-den-pfingstferien-2/
END:VEVENT
BEGIN:VEVENT
DTSTART;VALUE=DATE:20230612
DTEND;VALUE=DATE:20230617
DTSTAMP:20260422T153935
CREATED:20221221T110042Z
LAST-MODIFIED:20221221T110042Z
UID:10000068-1686528000-1686959999@gymnasium-birkenfeld.de
SUMMARY:Austausch mit Audun-le-Tiche (in Birkenfeld)
DESCRIPTION:
URL:https://gymnasium-birkenfeld.de/event/austausch-mit-audun-le-tiche-in-birkenfeld/
END:VEVENT
BEGIN:VEVENT
DTSTART;TZID=Europe/Berlin:20230623T180000
DTEND;TZID=Europe/Berlin:20230623T200000
DTSTAMP:20260422T153935
CREATED:20221220T071622Z
LAST-MODIFIED:20230619T153036Z
UID:10000062-1687543200-1687550400@gymnasium-birkenfeld.de
SUMMARY:Englischer Abend
DESCRIPTION:Liebe Schülerinnen und Schüler\, liebe Eltern\, \nwir möchten Euch bzw. Sie herzlich zum diesjährigen English Evening einladen. Die Reise durch die englischsprachige Welt findet am Freitag\, den 23.06.2023\, um 18 Uhr in der Aula statt. Verschiedene Gruppen der Orientierungsstufe bis Oberstufe werden dieses Jahr eine bunte Mischung aus Informativem\, Amüsantem und Mitreißendem auf die Bühne bringen. Es wird geschauspielert und gesungen! Natürlich alles auf Englisch. In der Pause werden Getränke und ein kleiner Snack angeboten. Alle vorbereitenden Schülerinnen und Schüler freuen sich sehr auf Euren/Ihren Besuch.
URL:https://gymnasium-birkenfeld.de/event/englischer-abend/
END:VEVENT
BEGIN:VEVENT
DTSTART;VALUE=DATE:20230630
DTEND;VALUE=DATE:20230701
DTSTAMP:20260422T153935
CREATED:20220628T095819Z
LAST-MODIFIED:20220628T095819Z
UID:10000020-1688083200-1688169599@gymnasium-birkenfeld.de
SUMMARY:Ausgabe der Jahreszeugnisse (Stufe 6)
DESCRIPTION:
URL:https://gymnasium-birkenfeld.de/event/ausgabe-der-jahreszeugnisse-stufe-6/
END:VEVENT
END:VCALENDAR