BEGIN:VCALENDAR
VERSION:2.0
PRODID:-//Gymnasium Birkenfeld - ECPv6.14.0//NONSGML v1.0//EN
CALSCALE:GREGORIAN
METHOD:PUBLISH
X-ORIGINAL-URL:https://gymnasium-birkenfeld.de
X-WR-CALDESC:Veranstaltungen für Gymnasium Birkenfeld
REFRESH-INTERVAL;VALUE=DURATION:PT1H
X-Robots-Tag:noindex
X-PUBLISHED-TTL:PT1H
BEGIN:VTIMEZONE
TZID:Europe/Berlin
BEGIN:DAYLIGHT
TZOFFSETFROM:+0100
TZOFFSETTO:+0200
TZNAME:CEST
DTSTART:20230326T010000
END:DAYLIGHT
BEGIN:STANDARD
TZOFFSETFROM:+0200
TZOFFSETTO:+0100
TZNAME:CET
DTSTART:20231029T010000
END:STANDARD
END:VTIMEZONE
BEGIN:VEVENT
DTSTART;VALUE=DATE:20230301
DTEND;VALUE=DATE:20230302
DTSTAMP:20260422T201850
CREATED:20221220T071515Z
LAST-MODIFIED:20221220T071515Z
UID:10000064-1677628800-1677715199@gymnasium-birkenfeld.de
SUMMARY:Anmeldung zur Oberstufe bei Schulartwechsel
DESCRIPTION:
URL:https://gymnasium-birkenfeld.de/event/anmeldung-zur-oberstufe-bei-schulartwechsel/
END:VEVENT
BEGIN:VEVENT
DTSTART;VALUE=DATE:20230302
DTEND;VALUE=DATE:20230303
DTSTAMP:20260422T201850
CREATED:20221220T071554Z
LAST-MODIFIED:20221220T071554Z
UID:10000063-1677715200-1677801599@gymnasium-birkenfeld.de
SUMMARY:Interaktives Zeitzeugeninterview\, Klassen 10
DESCRIPTION:
URL:https://gymnasium-birkenfeld.de/event/interaktives-zeitzeugeninterview-klassen-10/
END:VEVENT
BEGIN:VEVENT
DTSTART;VALUE=DATE:20230303
DTEND;VALUE=DATE:20230304
DTSTAMP:20260422T201850
CREATED:20221220T071718Z
LAST-MODIFIED:20221220T071718Z
UID:10000061-1677801600-1677887999@gymnasium-birkenfeld.de
SUMMARY:Zeugnisausgabe MSS 13
DESCRIPTION:
URL:https://gymnasium-birkenfeld.de/event/zeugnisausgabe-mss-13/
END:VEVENT
BEGIN:VEVENT
DTSTART;VALUE=DATE:20230309
DTEND;VALUE=DATE:20230310
DTSTAMP:20260422T201850
CREATED:20221220T071824Z
LAST-MODIFIED:20221220T071824Z
UID:10000060-1678320000-1678406399@gymnasium-birkenfeld.de
SUMMARY:Mathematik ohne Grenzen\, Hauptwettbewerb
DESCRIPTION:Klassen 10 und Mathe-LK’s 11
URL:https://gymnasium-birkenfeld.de/event/mathematik-ohne-grenzen-hauptwettbewerb/
END:VEVENT
BEGIN:VEVENT
DTSTART;VALUE=DATE:20230316
DTEND;VALUE=DATE:20230318
DTSTAMP:20260422T201850
CREATED:20220628T095209Z
LAST-MODIFIED:20230215T080539Z
UID:10000004-1678924800-1679097599@gymnasium-birkenfeld.de
SUMMARY:Mündliche Abiturprüfungen
DESCRIPTION:Der Unterricht für die Stufen 5 – 12 entfällt! \nWir wünschen unseren Abiturientinnen und Abiturienten viel Erfolg!
URL:https://gymnasium-birkenfeld.de/event/muendliche-abiturpruefungen-4/
END:VEVENT
BEGIN:VEVENT
DTSTART;VALUE=DATE:20230324
DTEND;VALUE=DATE:20230326
DTSTAMP:20260422T201850
CREATED:20221220T072000Z
LAST-MODIFIED:20221220T072000Z
UID:10000059-1679616000-1679788799@gymnasium-birkenfeld.de
SUMMARY:Fahrt nach Wolfsburg (MIN-Kurse 9 und 10)
DESCRIPTION:
URL:https://gymnasium-birkenfeld.de/event/fahrt-nach-wolfsburg-min-kurse-9-und-10/
END:VEVENT
BEGIN:VEVENT
DTSTART;VALUE=DATE:20230330
DTEND;VALUE=DATE:20230331
DTSTAMP:20260422T201850
CREATED:20220628T095240Z
LAST-MODIFIED:20230306T114944Z
UID:10000030-1680134400-1680220799@gymnasium-birkenfeld.de
SUMMARY:Abiturfeier
DESCRIPTION:
URL:https://gymnasium-birkenfeld.de/event/abiturfeier/
END:VEVENT
BEGIN:VEVENT
DTSTART;VALUE=DATE:20230331
DTEND;VALUE=DATE:20230401
DTSTAMP:20260422T201850
CREATED:20220628T095312Z
LAST-MODIFIED:20220628T095312Z
UID:10000031-1680220800-1680307199@gymnasium-birkenfeld.de
SUMMARY:Letzter Schultag vor den Osterferien
DESCRIPTION:
URL:https://gymnasium-birkenfeld.de/event/letzter-schultag-vor-den-osterferien-2/
END:VEVENT
END:VCALENDAR