BEGIN:VCALENDAR
VERSION:2.0
PRODID:-//Gymnasium Birkenfeld - ECPv6.14.0//NONSGML v1.0//EN
CALSCALE:GREGORIAN
METHOD:PUBLISH
X-WR-CALNAME:Gymnasium Birkenfeld
X-ORIGINAL-URL:https://gymnasium-birkenfeld.de
X-WR-CALDESC:Veranstaltungen für Gymnasium Birkenfeld
REFRESH-INTERVAL;VALUE=DURATION:PT1H
X-Robots-Tag:noindex
X-PUBLISHED-TTL:PT1H
BEGIN:VTIMEZONE
TZID:Europe/Berlin
BEGIN:DAYLIGHT
TZOFFSETFROM:+0100
TZOFFSETTO:+0200
TZNAME:CEST
DTSTART:20230326T010000
END:DAYLIGHT
BEGIN:STANDARD
TZOFFSETFROM:+0200
TZOFFSETTO:+0100
TZNAME:CET
DTSTART:20231029T010000
END:STANDARD
END:VTIMEZONE
BEGIN:VEVENT
DTSTART;VALUE=DATE:20230202
DTEND;VALUE=DATE:20230216
DTSTAMP:20260422T215508
CREATED:20221221T122611Z
LAST-MODIFIED:20230120T090303Z
UID:10000075-1675296000-1676505599@gymnasium-birkenfeld.de
SUMMARY:Anmeldungen zur neuen Klasse 5 für das Schuljahr 23/24
DESCRIPTION:Die Zukunft unserer Kinder gestalten\nAnmeldetermine zur neuen Klasse 5 für das Schuljahr 2023/2024\n2. Februar – 15. Februar 2023\n  \nAnmeldezeiten: \nDonnerstag\, 02.02.2023 – Mittwoch\, 15.02.2023 \n08:00 – 16:00 Uhr (außer Freitag nur bis 12:00 Uhr) \n  \nzusätzlich Donnerstag\, 09.02.2023 und Dienstag\, 14.02.2023 \n16:00 – 18:00 Uhr \n  \nHinweise für die Eltern\, die ihre Kinder am Gymnasium Birkenfeld anmelden möchten: \n\nInteressierte Eltern vereinbaren über das Sekretariat des Gymnasiums telefonisch einen individuellen Anmeldetermin (Tel.: 06782-99940)\nDas Anmeldeformular finden Sie hier (digitales Ausfüllen möglich!).\nDas Anmeldeformular zur GTS finden sie hier (digitales Ausfüllen möglich!).\nFüllen Sie die notwendigen Formulare bitte nach Möglichkeit vor der Anmeldung zuhause aus und bringen Sie diese an dem Anmeldetermin mit.\nBei Bedarf führen Mitglieder der Schulleitung Gespräche (im Einzelfall).\n\n  \n  \nFolgende Formulare benötigen wir zusätzlich zur Anmeldung: \n\ndie Geburtsurkunde des Kindes oder das Familienstammbuch\ndas Halbjahreszeugnis der Klasse 4\ndie Schullaufbahnempfehlung der Grundschule (nicht erforderlich für Schüler aus saarländ. Grundschulen)\nPassfoto des Kindes\n\n  \nBemerkung:  \n\nDie Fahrkartenanträge werden direkt über den Landkreis Birkenfeld gestellt. Entsprechende Informationen finden Sie auf den Internetseiten des Landkreises (Leben im Landkreis –> Bildung –> Schulen –> Schülerbeförderung)\, oder direkt unter folgendem Link.\nSollte der Nachweis der Masernimmunität noch nicht in der Grundschule erfolgt sein\, benötigen wir diesen Nachweis in Form des Impfbuches oder einer ärztlichen Bescheinigung.
URL:https://gymnasium-birkenfeld.de/event/anmeldungen-zur-neuen-klasse-5-fuer-das-schuljahr-23-24/
END:VEVENT
BEGIN:VEVENT
DTSTART;VALUE=DATE:20230203
DTEND;VALUE=DATE:20230204
DTSTAMP:20260422T215508
CREATED:20220628T094857Z
LAST-MODIFIED:20220628T094857Z
UID:10000033-1675382400-1675468799@gymnasium-birkenfeld.de
SUMMARY:Elternsprechtag
DESCRIPTION:
URL:https://gymnasium-birkenfeld.de/event/elternsprechtag-2/
END:VEVENT
BEGIN:VEVENT
DTSTART;TZID=Europe/Berlin:20230209T180000
DTEND;TZID=Europe/Berlin:20230209T193000
DTSTAMP:20260422T215508
CREATED:20221220T071045Z
LAST-MODIFIED:20221220T071045Z
UID:10000011-1675965600-1675971000@gymnasium-birkenfeld.de
SUMMARY:Elterninformationsabend zur 2. und 3. Fremdsprache
DESCRIPTION:Eltern der Stufen 5 und 8. \nEine gesonderte Einladung wird an die Schülerinnen und Schüler verteilt.
URL:https://gymnasium-birkenfeld.de/event/elterninformationsabend-zur-2-und-3-fremdsprache/
END:VEVENT
BEGIN:VEVENT
DTSTART;VALUE=DATE:20230210
DTEND;VALUE=DATE:20230211
DTSTAMP:20260422T215508
CREATED:20220628T094755Z
LAST-MODIFIED:20220628T094755Z
UID:10000040-1675987200-1676073599@gymnasium-birkenfeld.de
SUMMARY:IB-Prüfung IO German A
DESCRIPTION:
URL:https://gymnasium-birkenfeld.de/event/ib-pruefung-io-german-a/
END:VEVENT
BEGIN:VEVENT
DTSTART;TZID=Europe/Berlin:20230214T183000
DTEND;TZID=Europe/Berlin:20230214T200000
DTSTAMP:20260422T215508
CREATED:20230113T081205Z
LAST-MODIFIED:20230113T081205Z
UID:10000080-1676399400-1676404800@gymnasium-birkenfeld.de
SUMMARY:Informationsveranstaltung: Gymnasiale Oberstufe – Internationales Abitur
DESCRIPTION:Am Dienstag\, dem 14.02.2023\, stellt das Gymnasium Birkenfeld allen Interessierten – insbesondere den Eltern\, Schülerinnen und Schülern der Klassenstufe 10 – die Gymnasiale Oberstufe (MSS) an unserer Schule vor. \nDie Informationsveranstaltung beginnt um 18:30 Uhr in den Räumen des Gymnasiums Birkenfeld und steht allen offen\, die mehr über die Ausgestaltung der Klassenstufen 11 bis 13 an unserem Gymnasium erfahren wollen. \nUnsere Oberstufe beginnt mit dem 11. Schuljahr und endet im 13. Schuljahr zu den Osterferien (G9-Gymnasium). \nJede Schülerin und jeder Schüler wählt drei Leistungskurse. Auf diese Art kann ein Schwerpunkt in den Bereichen gelegt werden\, in denen besondere Interessen und Begabungen vorliegen. \nWir bieten seit einigen Jahren Leistungskurse in Sport\, den fortgeführten Fremdsprachen (Englisch\, Französisch\, Latein)\, Deutsch\, Mathematik\, den Naturwissenschaften (Physik\, Chemie\, Biologie) und den Gesellschaftswissenschaften (Geschichte\, Sozialkunde\, Erdkunde) an. Ab diesem Jahr kann auch Russisch im Grundkurs gewählt werden. \n  \nDas Gymnasium Birkenfeld bietet zusätzlich zum deutschen Abitur auch ein internationales Abitur an. Dies wird nach dem Standard der International Baccalaureate Organization (IB) in englischer Sprache erfolgen. Durch die Teilnahme an diesem IB-Programm werden die Schülerinnen und Schüler über die Inhalte der deutschen Lehrpläne hinaus geschult\, sie verbessern ihre Englischkenntnisse und ihre  Persönlichkeitsentwicklung wird gefördert. Darüber hinaus erleichtert ein erfolgreicher Abschluss den Zugang zu ausländischen Universitäten.  Das Gymnasium Birkenfeld ist derzeit die einzige staatliche Schule der Region\, die eine solche Möglichkeit bietet. \n  \nEin besonderer Schwerpunkt liegt darüber hinaus  im Bereich Mathematik-Naturwissenschaften. Es besteht die Möglichkeit das MINT-EC-Zertifikat – als Zusatzqualifikation zum Abitur – zu erwerben. Das Zertifikat wird an Schülerinnen und Schüler vergeben\, die ihren Schwerpunkt im Bereich der Naturwissenschaften\, Mathematik und Informatik gelegt haben. Wir können das Zertifikat vergeben\, da wir seit vielen Jahren Mitgliedsschule im Verein MINT-EC sind – einem deutschlandweiten Zusammenschluss von Schulen\, die mathematisch-naturwissenschaftliche Schülerinnen und Schüler in besonderer Weise fördern und unterstützen. Unsere Schülerinnen und Schüler haben im Rahmen von MINT-EC die Möglichkeit deutschlandweit an Schulen und Universitäten an Workshops (MINT-Camps) teilzunehmen. \n  \nDer Besuch der Oberstufe kann durch alle Schülerinnen und Schüler erfolgen\, die einen qualifizierten Sekundarabschluss I erworben haben. Für Gymnasiasten bedeutet dies die Versetzung in die Klasse 11. Absolventen von Realschulen plus\, Gemeinschaftsschulen und Gesamtschulen können sich anmelden\, falls sie zusätzlich die Berechtigung zum Besuch der Oberstufe erzielt haben. Die Anmeldung kann auch schon mit der vorläufigen Berechtigung erfolgen. Für zusätzliche Nachfragen stehen wir unter 06782/99940 oder mss@gymnasium-birkenfeld-nahe.de gerne zur Verfügung. \n 
URL:https://gymnasium-birkenfeld.de/event/informationsveranstaltung-gymnasiale-oberstufe-internationales-abitur/
END:VEVENT
BEGIN:VEVENT
DTSTART;VALUE=DATE:20230215
DTEND;VALUE=DATE:20230216
DTSTAMP:20260422T215508
CREATED:20220628T094934Z
LAST-MODIFIED:20220628T094934Z
UID:10000034-1676419200-1676505599@gymnasium-birkenfeld.de
SUMMARY:Letzter Schultag vor Fasching
DESCRIPTION:
URL:https://gymnasium-birkenfeld.de/event/letzter-schultag-vor-fasching/
END:VEVENT
BEGIN:VEVENT
DTSTART;VALUE=DATE:20230222
DTEND;VALUE=DATE:20230223
DTSTAMP:20260422T215508
CREATED:20220628T095019Z
LAST-MODIFIED:20220628T095019Z
UID:10000035-1677024000-1677110399@gymnasium-birkenfeld.de
SUMMARY:Erster Schultag nach Fasching
DESCRIPTION:
URL:https://gymnasium-birkenfeld.de/event/erster-schultag-nach-fasching-2/
END:VEVENT
BEGIN:VEVENT
DTSTART;VALUE=DATE:20230224
DTEND;VALUE=DATE:20230225
DTSTAMP:20260422T215508
CREATED:20221220T071333Z
LAST-MODIFIED:20221220T071333Z
UID:10000065-1677196800-1677283199@gymnasium-birkenfeld.de
SUMMARY:Landesfinale Mathematik-Olympiade
DESCRIPTION:Nur qualifizierte Teilnehmer. Diese werden gesondert informiert.
URL:https://gymnasium-birkenfeld.de/event/landesfinale-mathematik-olympiade/
END:VEVENT
END:VCALENDAR