BEGIN:VCALENDAR
VERSION:2.0
PRODID:-//Gymnasium Birkenfeld - ECPv6.14.0//NONSGML v1.0//EN
CALSCALE:GREGORIAN
METHOD:PUBLISH
X-ORIGINAL-URL:https://gymnasium-birkenfeld.de
X-WR-CALDESC:Veranstaltungen für Gymnasium Birkenfeld
REFRESH-INTERVAL;VALUE=DURATION:PT1H
X-Robots-Tag:noindex
X-PUBLISHED-TTL:PT1H
BEGIN:VTIMEZONE
TZID:Europe/Berlin
BEGIN:DAYLIGHT
TZOFFSETFROM:+0100
TZOFFSETTO:+0200
TZNAME:CEST
DTSTART:20220327T010000
END:DAYLIGHT
BEGIN:STANDARD
TZOFFSETFROM:+0200
TZOFFSETTO:+0100
TZNAME:CET
DTSTART:20221030T010000
END:STANDARD
END:VTIMEZONE
BEGIN:VEVENT
DTSTART;VALUE=DATE:20221203
DTEND;VALUE=DATE:20221204
DTSTAMP:20260424T115903
CREATED:20220628T094446Z
LAST-MODIFIED:20220628T094446Z
UID:10000045-1670025600-1670111999@gymnasium-birkenfeld.de
SUMMARY:Tag der Physik
DESCRIPTION:Uni Kaiserslautern.
URL:https://gymnasium-birkenfeld.de/event/tag-der-physik/
END:VEVENT
BEGIN:VEVENT
DTSTART;TZID=Europe/Berlin:20221207T180000
DTEND;TZID=Europe/Berlin:20221207T193000
DTSTAMP:20260424T115903
CREATED:20221124T084711Z
LAST-MODIFIED:20221124T084711Z
UID:10000014-1670436000-1670441400@gymnasium-birkenfeld.de
SUMMARY:MINT am Abend
DESCRIPTION:Wann? Mittwoch\, den 07.12.2022\, 18:00 Uhr \nWo? Im Chemie-Lehrsaal \nAn diesem Abend haben Schülerinnen und Schüler die Möglichkeit\, in kurzen Vorträgen über ihre Forschungen in den MINT-Fächern zu berichten.
URL:https://gymnasium-birkenfeld.de/event/mint-am-abend/
END:VEVENT
BEGIN:VEVENT
DTSTART;VALUE=DATE:20221222
DTEND;VALUE=DATE:20221223
DTSTAMP:20260424T115903
CREATED:20220628T094516Z
LAST-MODIFIED:20220628T094516Z
UID:10000037-1671667200-1671753599@gymnasium-birkenfeld.de
SUMMARY:Letzter Schultag vor den Weihnachtsferien
DESCRIPTION:
URL:https://gymnasium-birkenfeld.de/event/letzter-schultag-vor-den-weihnachtsferien-2/
END:VEVENT
END:VCALENDAR