BEGIN:VCALENDAR
VERSION:2.0
PRODID:-//Gymnasium Birkenfeld - ECPv6.14.0//NONSGML v1.0//EN
CALSCALE:GREGORIAN
METHOD:PUBLISH
X-WR-CALNAME:Gymnasium Birkenfeld
X-ORIGINAL-URL:https://gymnasium-birkenfeld.de
X-WR-CALDESC:Veranstaltungen für Gymnasium Birkenfeld
REFRESH-INTERVAL;VALUE=DURATION:PT1H
X-Robots-Tag:noindex
X-PUBLISHED-TTL:PT1H
BEGIN:VTIMEZONE
TZID:Europe/Berlin
BEGIN:DAYLIGHT
TZOFFSETFROM:+0100
TZOFFSETTO:+0200
TZNAME:CEST
DTSTART:20220327T010000
END:DAYLIGHT
BEGIN:STANDARD
TZOFFSETFROM:+0200
TZOFFSETTO:+0100
TZNAME:CET
DTSTART:20221030T010000
END:STANDARD
END:VTIMEZONE
BEGIN:VEVENT
DTSTART;VALUE=DATE:20221102
DTEND;VALUE=DATE:20221103
DTSTAMP:20260424T133213
CREATED:20220628T094253Z
LAST-MODIFIED:20220628T094253Z
UID:10000043-1667347200-1667433599@gymnasium-birkenfeld.de
SUMMARY:Erster Schultag nach den Herbstferien
DESCRIPTION:
URL:https://gymnasium-birkenfeld.de/event/erster-schultag-nach-den-herbstferien/
END:VEVENT
BEGIN:VEVENT
DTSTART;VALUE=DATE:20221119
DTEND;VALUE=DATE:20221120
DTSTAMP:20260424T133213
CREATED:20220904T142639Z
LAST-MODIFIED:20221011T062820Z
UID:10000002-1668816000-1668902399@gymnasium-birkenfeld.de
SUMMARY:Tag der offenen Tür
DESCRIPTION:  \nAm Samstag\, den 19. November 2022 lädt das Gymnasium Birkenfeld die Schülerinnen und Schüler der vierten Grundschulklassen zusammen mit ihren Eltern zu einem Tag der offenen Tür ein. Die Veranstaltung beginnt um 8:30 Uhr in der Aula des Gymnasiums. Sollten die Renovierungsarbeiten dann noch nicht abgeschlossen sein\, wird vor Ort ein alternativer Raum bekannt gegeben. \n  \nDie Schülerinnen und Schüler haben die Möglichkeit an Schnupperunterricht teilzunehmen sowie die verschiedenen Fächer und das Schulgebäude kennen zu lernen. Sie werden an diesem Vormittag in kleinen Gruppen von erfahrenen Schülerinnen und Schülern des Gymnasiums begleitet. \nFür die Eltern wird es verschiedene Vorträge über die Schule\, die Orientierungsstufe und die beiden Profile MINT (Mathematik-Informatik-Naturwissenschaft-Technik)) sowie IB (Internationales Abitur) geben. Danach können auch sie das Gebäude mit den verschiedenen Funktionsräumen kennen lernen und ins Gespräch mit Schülerinnen und Schüler sowie Lehrerinnen und Lehrer des Gymnasiums kommen. Der Förderverein und auch der Schulelternbeirat werden ebenfalls als Ansprechpartner zur Verfügung stehen. Die Cafeteria Lädt zu Kaffee und Kuchen ein. \n  \nDas Ende des offiziellen Teils der Veranstaltung wird gegen 12:00 Uhr sein. Gerne können danach noch individuelle Gespräche geführt werden. \n  \nWir bitten um Voranmeldung unter der Mailadresse info@gymbir.de. Interessierte geben bitte den Namen des Kindes an und – falls gewünscht – mit welchem/r Freund/Freundin es zusammen die Schule erkunden möchte. Auch Kurzentschlossenen können gerne am 3. Samstag im November am Gymnasium vorbei kommen. \n  \n  \nFür Interessierte\, die diesen Termin nicht wahrnehmen können\, bieten wir am 12.01.2023 um 19:00 Uhr einen Online-Infoabend an. Gerne steht auch der Leiter der Orientierungsstufe Herr Thomas Endres für Gespräche zur Verfügung. Vereinbaren Sie gerne einen Gesprächstermin über das Sekretariat: 06782 99940.
URL:https://gymnasium-birkenfeld.de/event/tag-der-offenen-tuer/
END:VEVENT
END:VCALENDAR