BEGIN:VCALENDAR
VERSION:2.0
PRODID:-//Gymnasium Birkenfeld - ECPv6.14.0//NONSGML v1.0//EN
CALSCALE:GREGORIAN
METHOD:PUBLISH
X-WR-CALNAME:Gymnasium Birkenfeld
X-ORIGINAL-URL:https://gymnasium-birkenfeld.de
X-WR-CALDESC:Veranstaltungen für Gymnasium Birkenfeld
REFRESH-INTERVAL;VALUE=DURATION:PT1H
X-Robots-Tag:noindex
X-PUBLISHED-TTL:PT1H
BEGIN:VTIMEZONE
TZID:Europe/Berlin
BEGIN:DAYLIGHT
TZOFFSETFROM:+0100
TZOFFSETTO:+0200
TZNAME:CEST
DTSTART:20230326T010000
END:DAYLIGHT
BEGIN:STANDARD
TZOFFSETFROM:+0200
TZOFFSETTO:+0100
TZNAME:CET
DTSTART:20231029T010000
END:STANDARD
END:VTIMEZONE
BEGIN:VEVENT
DTSTART;VALUE=DATE:20230719
DTEND;VALUE=DATE:20230720
DTSTAMP:20260422T153703
CREATED:20221221T110527Z
LAST-MODIFIED:20221221T110527Z
UID:10000071-1689724800-1689811199@gymnasium-birkenfeld.de
SUMMARY:Allgemeiner Wandertag
DESCRIPTION:
URL:https://gymnasium-birkenfeld.de/event/allgemeiner-wandertag/
END:VEVENT
BEGIN:VEVENT
DTSTART;TZID=Europe/Berlin:20230719T080000
DTEND;TZID=Europe/Berlin:20230719T170000
DTSTAMP:20260422T153703
CREATED:20230719T054032Z
LAST-MODIFIED:20230719T054032Z
UID:10000089-1689753600-1689786000@gymnasium-birkenfeld.de
SUMMARY:Allerheiligen
DESCRIPTION:Schulfrei!
URL:https://gymnasium-birkenfeld.de/event/allerheiligen/
END:VEVENT
END:VCALENDAR