BEGIN:VCALENDAR
VERSION:2.0
PRODID:-//Gymnasium Birkenfeld - ECPv6.14.0//NONSGML v1.0//EN
CALSCALE:GREGORIAN
METHOD:PUBLISH
X-WR-CALNAME:Gymnasium Birkenfeld
X-ORIGINAL-URL:https://gymnasium-birkenfeld.de
X-WR-CALDESC:Veranstaltungen für Gymnasium Birkenfeld
REFRESH-INTERVAL;VALUE=DURATION:PT1H
X-Robots-Tag:noindex
X-PUBLISHED-TTL:PT1H
BEGIN:VTIMEZONE
TZID:Europe/Berlin
BEGIN:DAYLIGHT
TZOFFSETFROM:+0100
TZOFFSETTO:+0200
TZNAME:CEST
DTSTART:20230326T010000
END:DAYLIGHT
BEGIN:STANDARD
TZOFFSETFROM:+0200
TZOFFSETTO:+0100
TZNAME:CET
DTSTART:20231029T010000
END:STANDARD
END:VTIMEZONE
BEGIN:VEVENT
DTSTART;TZID=Europe/Berlin:20230522T180000
DTEND;TZID=Europe/Berlin:20230522T190000
DTSTAMP:20260422T184413
CREATED:20230428T142438Z
LAST-MODIFIED:20230428T142438Z
UID:10000081-1684778400-1684782000@gymnasium-birkenfeld.de
SUMMARY:Jahreshauptversammlung Förderverein
DESCRIPTION:Die Jahreshauptversammlung des Fördervereins findet am Montag den 22.05.2023 um 18 Uhr im Raum 258 des Gymnasium Birkenfelds statt. \nEin Tagesordnungspunkt beinhaltet die Änderung der Satzung. Die geplanten Änderungen wurden in der folgenden Datei markiert und können dort eingesehen werden: Satzung_Entwurf.
URL:https://gymnasium-birkenfeld.de/event/jahreshauptversammlung-foerderverein/
END:VEVENT
END:VCALENDAR