BEGIN:VCALENDAR
VERSION:2.0
PRODID:-//Gymnasium Birkenfeld - ECPv6.14.0//NONSGML v1.0//EN
CALSCALE:GREGORIAN
METHOD:PUBLISH
X-ORIGINAL-URL:https://gymnasium-birkenfeld.de
X-WR-CALDESC:Veranstaltungen für Gymnasium Birkenfeld
REFRESH-INTERVAL;VALUE=DURATION:PT1H
X-Robots-Tag:noindex
X-PUBLISHED-TTL:PT1H
BEGIN:VTIMEZONE
TZID:Europe/Berlin
BEGIN:DAYLIGHT
TZOFFSETFROM:+0100
TZOFFSETTO:+0200
TZNAME:CEST
DTSTART:20230326T010000
END:DAYLIGHT
BEGIN:STANDARD
TZOFFSETFROM:+0200
TZOFFSETTO:+0100
TZNAME:CET
DTSTART:20231029T010000
END:STANDARD
END:VTIMEZONE
BEGIN:VEVENT
DTSTART;TZID=Europe/Berlin:20230420T183000
DTEND;TZID=Europe/Berlin:20230420T200000
DTSTAMP:20260422T201645
CREATED:20221220T072218Z
LAST-MODIFIED:20230330T120250Z
UID:10000057-1682015400-1682020800@gymnasium-birkenfeld.de
SUMMARY:Abend der Musik
DESCRIPTION:Plakat von Shenxi Jin (MSS11) \n \nAuch dieses Jahr dürfen sich die Zuhörer wieder auf eine bunte Mischung verschiedenster Musikstile freuen. Schülerinnen und Schüler aus den Jahrgängen 5 bis 12 sowie Ehemalige präsentieren ihr Können solo und in Gruppen an diversen Instrumenten\, instrumental oder mit Gesang\, zum Teil unterstützt von ihren Musiklehrern. Die Veranstaltung findet in der Schulaula statt und beginnt um 18:30 Uhr\, der Eintritt ist frei.
URL:https://gymnasium-birkenfeld.de/event/abend-der-musik/
END:VEVENT
END:VCALENDAR