BEGIN:VCALENDAR
VERSION:2.0
PRODID:-//Gymnasium Birkenfeld - ECPv6.14.0//NONSGML v1.0//EN
CALSCALE:GREGORIAN
METHOD:PUBLISH
X-WR-CALNAME:Gymnasium Birkenfeld
X-ORIGINAL-URL:https://gymnasium-birkenfeld.de
X-WR-CALDESC:Veranstaltungen für Gymnasium Birkenfeld
REFRESH-INTERVAL;VALUE=DURATION:PT1H
X-Robots-Tag:noindex
X-PUBLISHED-TTL:PT1H
BEGIN:VTIMEZONE
TZID:Europe/Berlin
BEGIN:DAYLIGHT
TZOFFSETFROM:+0100
TZOFFSETTO:+0200
TZNAME:CEST
DTSTART:20230326T010000
END:DAYLIGHT
BEGIN:STANDARD
TZOFFSETFROM:+0200
TZOFFSETTO:+0100
TZNAME:CET
DTSTART:20231029T010000
END:STANDARD
END:VTIMEZONE
BEGIN:VEVENT
DTSTART;VALUE=DATE:20230202
DTEND;VALUE=DATE:20230216
DTSTAMP:20260423T004419
CREATED:20221221T122611Z
LAST-MODIFIED:20230120T090303Z
UID:10000075-1675296000-1676505599@gymnasium-birkenfeld.de
SUMMARY:Anmeldungen zur neuen Klasse 5 für das Schuljahr 23/24
DESCRIPTION:Die Zukunft unserer Kinder gestalten\nAnmeldetermine zur neuen Klasse 5 für das Schuljahr 2023/2024\n2. Februar – 15. Februar 2023\n  \nAnmeldezeiten: \nDonnerstag\, 02.02.2023 – Mittwoch\, 15.02.2023 \n08:00 – 16:00 Uhr (außer Freitag nur bis 12:00 Uhr) \n  \nzusätzlich Donnerstag\, 09.02.2023 und Dienstag\, 14.02.2023 \n16:00 – 18:00 Uhr \n  \nHinweise für die Eltern\, die ihre Kinder am Gymnasium Birkenfeld anmelden möchten: \n\nInteressierte Eltern vereinbaren über das Sekretariat des Gymnasiums telefonisch einen individuellen Anmeldetermin (Tel.: 06782-99940)\nDas Anmeldeformular finden Sie hier (digitales Ausfüllen möglich!).\nDas Anmeldeformular zur GTS finden sie hier (digitales Ausfüllen möglich!).\nFüllen Sie die notwendigen Formulare bitte nach Möglichkeit vor der Anmeldung zuhause aus und bringen Sie diese an dem Anmeldetermin mit.\nBei Bedarf führen Mitglieder der Schulleitung Gespräche (im Einzelfall).\n\n  \n  \nFolgende Formulare benötigen wir zusätzlich zur Anmeldung: \n\ndie Geburtsurkunde des Kindes oder das Familienstammbuch\ndas Halbjahreszeugnis der Klasse 4\ndie Schullaufbahnempfehlung der Grundschule (nicht erforderlich für Schüler aus saarländ. Grundschulen)\nPassfoto des Kindes\n\n  \nBemerkung:  \n\nDie Fahrkartenanträge werden direkt über den Landkreis Birkenfeld gestellt. Entsprechende Informationen finden Sie auf den Internetseiten des Landkreises (Leben im Landkreis –> Bildung –> Schulen –> Schülerbeförderung)\, oder direkt unter folgendem Link.\nSollte der Nachweis der Masernimmunität noch nicht in der Grundschule erfolgt sein\, benötigen wir diesen Nachweis in Form des Impfbuches oder einer ärztlichen Bescheinigung.
URL:https://gymnasium-birkenfeld.de/event/anmeldungen-zur-neuen-klasse-5-fuer-das-schuljahr-23-24/
END:VEVENT
BEGIN:VEVENT
DTSTART;TZID=Europe/Berlin:20230209T180000
DTEND;TZID=Europe/Berlin:20230209T193000
DTSTAMP:20260423T004419
CREATED:20221220T071045Z
LAST-MODIFIED:20221220T071045Z
UID:10000011-1675965600-1675971000@gymnasium-birkenfeld.de
SUMMARY:Elterninformationsabend zur 2. und 3. Fremdsprache
DESCRIPTION:Eltern der Stufen 5 und 8. \nEine gesonderte Einladung wird an die Schülerinnen und Schüler verteilt.
URL:https://gymnasium-birkenfeld.de/event/elterninformationsabend-zur-2-und-3-fremdsprache/
END:VEVENT
END:VCALENDAR