BEGIN:VCALENDAR
VERSION:2.0
PRODID:-//Gymnasium Birkenfeld - ECPv6.14.0//NONSGML v1.0//EN
CALSCALE:GREGORIAN
METHOD:PUBLISH
X-ORIGINAL-URL:https://gymnasium-birkenfeld.de
X-WR-CALDESC:Veranstaltungen für Gymnasium Birkenfeld
REFRESH-INTERVAL;VALUE=DURATION:PT1H
X-Robots-Tag:noindex
X-PUBLISHED-TTL:PT1H
BEGIN:VTIMEZONE
TZID:Europe/Berlin
BEGIN:DAYLIGHT
TZOFFSETFROM:+0100
TZOFFSETTO:+0200
TZNAME:CEST
DTSTART:20230326T010000
END:DAYLIGHT
BEGIN:STANDARD
TZOFFSETFROM:+0200
TZOFFSETTO:+0100
TZNAME:CET
DTSTART:20231029T010000
END:STANDARD
END:VTIMEZONE
BEGIN:VEVENT
DTSTART;VALUE=DATE:20230113
DTEND;VALUE=DATE:20230114
DTSTAMP:20260423T010451
CREATED:20221220T070448Z
LAST-MODIFIED:20221220T070448Z
UID:10000006-1673568000-1673654399@gymnasium-birkenfeld.de
SUMMARY:Abiturprüfung Mathematik
DESCRIPTION:
URL:https://gymnasium-birkenfeld.de/event/abiturpruefung-mathematik/
END:VEVENT
BEGIN:VEVENT
DTSTART;TZID=Europe/Berlin:20230113T130000
DTEND;TZID=Europe/Berlin:20230113T170000
DTSTAMP:20260423T010451
CREATED:20221121T151055Z
LAST-MODIFIED:20221123T184622Z
UID:10000013-1673614800-1673629200@gymnasium-birkenfeld.de
SUMMARY:Kunst-Workshop ab Klasse 7
DESCRIPTION:Liebe Schülerinnen und Schüler\, \n  \ndie Fachschaft Kunst bietet einen Workshop für “Experimentelles Drucken” an. \nAn diesem Workshop können maximal 8 Schülerinnen oder Schüler ab der 7. Klasse teilnehmen. \nIhr druckt mit leeren Milchpackungen\, Tesafilm\, Fotos oder alten CDs und einer speziellen Druckfarbe. \nDer Termin für den Workshop ist Freitag\, der 13.01.2022 von 13.00 bis 17.00 Uhr\, \ndie Unkosten betragen 5 Euro. \nDie Vorbesprechung ist am Mittwoch\, dem 30.11.2023 in der 1. großen Pause im BKL 1. \nAlle Informationen und das Anmeldeformular findet ihr hier.
URL:https://gymnasium-birkenfeld.de/event/kunst-workshop-ab-klasse-7/
END:VEVENT
END:VCALENDAR